BEGIN:VCALENDAR
VERSION:2.0
PRODID:-//St Patrick&#039;s Cathedral - ECPv4.5.12.3//NONSGML v1.0//EN
CALSCALE:GREGORIAN
METHOD:PUBLISH
X-WR-CALNAME:St Patrick&#039;s Cathedral
X-ORIGINAL-URL:https://www.stpatrickscathedral.ie
X-WR-CALDESC:Events for St Patrick&#039;s Cathedral
BEGIN:VEVENT
DTSTART;TZID=Europe/Dublin:20171031T173000
DTEND;TZID=Europe/Dublin:20171031T180000
DTSTAMP:20171107T153123
CREATED:20171024T100405Z
LAST-MODIFIED:20171025T105001Z
UID:7558-1509471000-1509472800@www.stpatrickscathedral.ie
SUMMARY:Compline
DESCRIPTION:Sung by the Gentlemen of the Cathedral Choir \n
URL:https://www.stpatrickscathedral.ie/event/compline-4/
CATEGORIES:Services
ATTACH;FMTTYPE=image/jpeg:https://www.stpatrickscathedral.ie/wp-content/uploads/2016/05/QUIRE-1.jpg
END:VEVENT
END:VCALENDAR