BEGIN:VCALENDAR
VERSION:2.0
PRODID:-//St Patrick&#039;s Cathedral - ECPv4.5.12.3//NONSGML v1.0//EN
CALSCALE:GREGORIAN
METHOD:PUBLISH
X-WR-CALNAME:St Patrick&#039;s Cathedral
X-ORIGINAL-URL:https://www.stpatrickscathedral.ie
X-WR-CALDESC:Events for St Patrick&#039;s Cathedral
BEGIN:VEVENT
DTSTART;TZID=Europe/Dublin:20171101T110000
DTEND;TZID=Europe/Dublin:20171101T113000
DTSTAMP:20171107T153207
CREATED:20171024T094625Z
LAST-MODIFIED:20171024T094625Z
UID:7538-1509534000-1509535800@www.stpatrickscathedral.ie
SUMMARY:Eucharist
DESCRIPTION:Celebration of the Eucharist in the Lady Chapel \n
URL:https://www.stpatrickscathedral.ie/event/eucharist-51/2017-11-01/
CATEGORIES:Services
ATTACH;FMTTYPE=image/jpeg:https://www.stpatrickscathedral.ie/wp-content/uploads/2016/05/Untitled-design-40.jpg
END:VEVENT
BEGIN:VEVENT
DTSTART;TZID=Europe/Dublin:20171101T173000
DTEND;TZID=Europe/Dublin:20171101T180000
DTSTAMP:20171107T153207
CREATED:20171024T100123Z
LAST-MODIFIED:20171024T100123Z
UID:7552-1509557400-1509559200@www.stpatrickscathedral.ie
SUMMARY:Choral Evensong
DESCRIPTION:
URL:https://www.stpatrickscathedral.ie/event/choral-evensong-48/2017-11-01/
CATEGORIES:Services
ATTACH;FMTTYPE=image/jpeg:https://www.stpatrickscathedral.ie/wp-content/uploads/2016/05/QUIRE-1.jpg
END:VEVENT
END:VCALENDAR