BEGIN:VCALENDAR
VERSION:2.0
PRODID:-//St Patrick&#039;s Cathedral - ECPv4.5.12.3//NONSGML v1.0//EN
CALSCALE:GREGORIAN
METHOD:PUBLISH
X-WR-CALNAME:St Patrick&#039;s Cathedral
X-ORIGINAL-URL:https://www.stpatrickscathedral.ie
X-WR-CALDESC:Events for St Patrick&#039;s Cathedral
BEGIN:VEVENT
DTSTART;TZID=Europe/Dublin:20171108T090000
DTEND;TZID=Europe/Dublin:20171108T093000
DTSTAMP:20171107T153630
CREATED:20171024T093706Z
LAST-MODIFIED:20171024T094407Z
UID:7495-1510131600-1510133400@www.stpatrickscathedral.ie
SUMMARY:Sung Matins
DESCRIPTION:Join us for our morning sung service. \n
URL:https://www.stpatrickscathedral.ie/event/sung-matins-23/2017-11-08/
CATEGORIES:Services
ATTACH;FMTTYPE=image/jpeg:https://www.stpatrickscathedral.ie/wp-content/uploads/2016/05/Untitled-design-37.jpg
END:VEVENT
BEGIN:VEVENT
DTSTART;TZID=Europe/Dublin:20171108T110000
DTEND;TZID=Europe/Dublin:20171108T113000
DTSTAMP:20171107T153631
CREATED:20171024T094625Z
LAST-MODIFIED:20171024T094625Z
UID:7541-1510138800-1510140600@www.stpatrickscathedral.ie
SUMMARY:Eucharist
DESCRIPTION:Celebration of the Eucharist in the Lady Chapel \n
URL:https://www.stpatrickscathedral.ie/event/eucharist-51/2017-11-08/
CATEGORIES:Services
ATTACH;FMTTYPE=image/jpeg:https://www.stpatrickscathedral.ie/wp-content/uploads/2016/05/Untitled-design-40.jpg
END:VEVENT
BEGIN:VEVENT
DTSTART;TZID=Europe/Dublin:20171108T173000
DTEND;TZID=Europe/Dublin:20171108T180000
DTSTAMP:20171107T153631
CREATED:20171024T094117Z
LAST-MODIFIED:20171024T094117Z
UID:7511-1510162200-1510164000@www.stpatrickscathedral.ie
SUMMARY:Choral Evensong
DESCRIPTION:Join us for our daily sung service. \n
URL:https://www.stpatrickscathedral.ie/event/choral-evensong-47/2017-11-08/
CATEGORIES:Services
ATTACH;FMTTYPE=image/jpeg:https://www.stpatrickscathedral.ie/wp-content/uploads/2016/05/QUIRE-1.jpg
END:VEVENT
END:VCALENDAR