BEGIN:VCALENDAR
VERSION:2.0
PRODID:-//St Patrick&#039;s Cathedral - ECPv4.5.12.3//NONSGML v1.0//EN
CALSCALE:GREGORIAN
METHOD:PUBLISH
X-WR-CALNAME:St Patrick&#039;s Cathedral
X-ORIGINAL-URL:https://www.stpatrickscathedral.ie
X-WR-CALDESC:Events for St Patrick&#039;s Cathedral
BEGIN:VEVENT
DTSTART;TZID=Europe/Dublin:20171112T091500
DTEND;TZID=Europe/Dublin:20171112T100000
DTSTAMP:20171107T153851
CREATED:20171024T110036Z
LAST-MODIFIED:20171024T110036Z
UID:7572-1510478100-1510480800@www.stpatrickscathedral.ie
SUMMARY:Eucharist
DESCRIPTION:Said in the Lady Chapel \n
URL:https://www.stpatrickscathedral.ie/event/eucharist-52/2017-11-12/
CATEGORIES:Services
ATTACH;FMTTYPE=image/jpeg:https://www.stpatrickscathedral.ie/wp-content/uploads/2016/05/Untitled-design-40.jpg
END:VEVENT
BEGIN:VEVENT
DTSTART;TZID=Europe/Dublin:20171112T105500
DTEND;TZID=Europe/Dublin:20171112T121500
DTSTAMP:20171107T153851
CREATED:20171024T105740Z
LAST-MODIFIED:20171103T113225Z
UID:7568-1510484100-1510488900@www.stpatrickscathedral.ie
SUMMARY:Choral Matins
DESCRIPTION:  \n  \n
URL:https://www.stpatrickscathedral.ie/event/choral-matins-4/
CATEGORIES:Services
ATTACH;FMTTYPE=image/jpeg:https://www.stpatrickscathedral.ie/wp-content/uploads/2016/05/QUIRE-1.jpg
END:VEVENT
BEGIN:VEVENT
DTSTART;TZID=Europe/Dublin:20171112T151500
DTEND;TZID=Europe/Dublin:20171112T163000
DTSTAMP:20171107T153851
CREATED:20171024T100629Z
LAST-MODIFIED:20171106T161941Z
UID:7653-1510499700-1510504200@www.stpatrickscathedral.ie
SUMMARY:Choral Evensong (Remembrance Sunday)
DESCRIPTION:Preacher; The Revd Peter Campion \n
URL:https://www.stpatrickscathedral.ie/event/choral-evensong-49-2017-11-12/
CATEGORIES:Services
ATTACH;FMTTYPE=image/jpeg:https://www.stpatrickscathedral.ie/wp-content/uploads/2016/05/Untitled-design-38.jpg
END:VEVENT
END:VCALENDAR