BEGIN:VCALENDAR
VERSION:2.0
PRODID:-//St Patrick&#039;s Cathedral - ECPv4.5.12.3//NONSGML v1.0//EN
CALSCALE:GREGORIAN
METHOD:PUBLISH
X-WR-CALNAME:St Patrick&#039;s Cathedral
X-ORIGINAL-URL:https://www.stpatrickscathedral.ie
X-WR-CALDESC:Events for St Patrick&#039;s Cathedral
BEGIN:VEVENT
DTSTART;TZID=Europe/Dublin:20171119T091500
DTEND;TZID=Europe/Dublin:20171119T100000
DTSTAMP:20171107T154358
CREATED:20171024T110036Z
LAST-MODIFIED:20171024T110036Z
UID:7573-1511082900-1511085600@www.stpatrickscathedral.ie
SUMMARY:Eucharist
DESCRIPTION:Said in the Lady Chapel \n
URL:https://www.stpatrickscathedral.ie/event/eucharist-52/2017-11-19/
CATEGORIES:Services
ATTACH;FMTTYPE=image/jpeg:https://www.stpatrickscathedral.ie/wp-content/uploads/2016/05/Untitled-design-40.jpg
END:VEVENT
BEGIN:VEVENT
DTSTART;TZID=Europe/Dublin:20171119T111500
DTEND;TZID=Europe/Dublin:20171119T123000
DTSTAMP:20171107T154358
CREATED:20171024T105543Z
LAST-MODIFIED:20171024T105543Z
UID:7657-1511090100-1511094600@www.stpatrickscathedral.ie
SUMMARY:Choral Eucharist
DESCRIPTION:
URL:https://www.stpatrickscathedral.ie/event/choral-eucharist-9/2017-11-19/
CATEGORIES:Services
ATTACH;FMTTYPE=image/jpeg:https://www.stpatrickscathedral.ie/wp-content/uploads/2016/05/QUIRE-1.jpg
END:VEVENT
BEGIN:VEVENT
DTSTART;TZID=Europe/Dublin:20171119T151500
DTEND;TZID=Europe/Dublin:20171119T163000
DTSTAMP:20171107T154358
CREATED:20171024T100629Z
LAST-MODIFIED:20171024T100629Z
UID:7654-1511104500-1511109000@www.stpatrickscathedral.ie
SUMMARY:Choral Evensong
DESCRIPTION:
URL:https://www.stpatrickscathedral.ie/event/choral-evensong-49/2017-11-19/
CATEGORIES:Services
ATTACH;FMTTYPE=image/jpeg:https://www.stpatrickscathedral.ie/wp-content/uploads/2016/05/Untitled-design-38.jpg
END:VEVENT
END:VCALENDAR