BEGIN:VCALENDAR
VERSION:2.0
PRODID:-//St Patrick&#039;s Cathedral - ECPv4.5.12.3//NONSGML v1.0//EN
CALSCALE:GREGORIAN
METHOD:PUBLISH
X-WR-CALNAME:St Patrick&#039;s Cathedral
X-ORIGINAL-URL:https://www.stpatrickscathedral.ie
X-WR-CALDESC:Events for St Patrick&#039;s Cathedral
BEGIN:VEVENT
DTSTART;TZID=Europe/Dublin:20171122T090000
DTEND;TZID=Europe/Dublin:20171122T093000
DTSTAMP:20171107T154602
CREATED:20171024T093706Z
LAST-MODIFIED:20171024T094414Z
UID:7505-1511341200-1511343000@www.stpatrickscathedral.ie
SUMMARY:Sung Matins
DESCRIPTION:Join us for our morning sung service. \n
URL:https://www.stpatrickscathedral.ie/event/sung-matins-23/2017-11-22/
CATEGORIES:Services
ATTACH;FMTTYPE=image/jpeg:https://www.stpatrickscathedral.ie/wp-content/uploads/2016/05/Untitled-design-37.jpg
END:VEVENT
BEGIN:VEVENT
DTSTART;TZID=Europe/Dublin:20171122T110000
DTEND;TZID=Europe/Dublin:20171122T113000
DTSTAMP:20171107T154602
CREATED:20171024T094625Z
LAST-MODIFIED:20171024T094625Z
UID:7545-1511348400-1511350200@www.stpatrickscathedral.ie
SUMMARY:Eucharist
DESCRIPTION:Celebration of the Eucharist in the Lady Chapel \n
URL:https://www.stpatrickscathedral.ie/event/eucharist-51/2017-11-22/
CATEGORIES:Services
ATTACH;FMTTYPE=image/jpeg:https://www.stpatrickscathedral.ie/wp-content/uploads/2016/05/Untitled-design-40.jpg
END:VEVENT
BEGIN:VEVENT
DTSTART;TZID=Europe/Dublin:20171122T173000
DTEND;TZID=Europe/Dublin:20171122T180000
DTSTAMP:20171107T154602
CREATED:20171024T094117Z
LAST-MODIFIED:20171024T094117Z
UID:7520-1511371800-1511373600@www.stpatrickscathedral.ie
SUMMARY:Choral Evensong
DESCRIPTION:Join us for our daily sung service. \n
URL:https://www.stpatrickscathedral.ie/event/choral-evensong-47/2017-11-22/
CATEGORIES:Services
ATTACH;FMTTYPE=image/jpeg:https://www.stpatrickscathedral.ie/wp-content/uploads/2016/05/QUIRE-1.jpg
END:VEVENT
END:VCALENDAR