BEGIN:VCALENDAR
VERSION:2.0
PRODID:-//St Patrick&#039;s Cathedral - ECPv4.5.12.3//NONSGML v1.0//EN
CALSCALE:GREGORIAN
METHOD:PUBLISH
X-WR-CALNAME:St Patrick&#039;s Cathedral
X-ORIGINAL-URL:https://www.stpatrickscathedral.ie
X-WR-CALDESC:Events for St Patrick&#039;s Cathedral
BEGIN:VEVENT
DTSTART;TZID=Europe/Dublin:20171124T090000
DTEND;TZID=Europe/Dublin:20171124T093000
DTSTAMP:20171107T154726
CREATED:20171024T093706Z
LAST-MODIFIED:20171024T094415Z
UID:7507-1511514000-1511515800@www.stpatrickscathedral.ie
SUMMARY:Sung Matins
DESCRIPTION:Join us for our morning sung service. \n
URL:https://www.stpatrickscathedral.ie/event/sung-matins-23/2017-11-24/
CATEGORIES:Services
ATTACH;FMTTYPE=image/jpeg:https://www.stpatrickscathedral.ie/wp-content/uploads/2016/05/Untitled-design-37.jpg
END:VEVENT
BEGIN:VEVENT
DTSTART;TZID=Europe/Dublin:20171124T173000
DTEND;TZID=Europe/Dublin:20171124T180000
DTSTAMP:20171107T154726
CREATED:20171024T094117Z
LAST-MODIFIED:20171024T094117Z
UID:7522-1511544600-1511546400@www.stpatrickscathedral.ie
SUMMARY:Choral Evensong
DESCRIPTION:Join us for our daily sung service. \n
URL:https://www.stpatrickscathedral.ie/event/choral-evensong-47/2017-11-24/
CATEGORIES:Services
ATTACH;FMTTYPE=image/jpeg:https://www.stpatrickscathedral.ie/wp-content/uploads/2016/05/QUIRE-1.jpg
END:VEVENT
END:VCALENDAR