BEGIN:VCALENDAR
VERSION:2.0
PRODID:-//St Patrick&#039;s Cathedral - ECPv4.5.12.3//NONSGML v1.0//EN
CALSCALE:GREGORIAN
METHOD:PUBLISH
X-WR-CALNAME:St Patrick&#039;s Cathedral
X-ORIGINAL-URL:https://www.stpatrickscathedral.ie
X-WR-CALDESC:Events for St Patrick&#039;s Cathedral
BEGIN:VEVENT
DTSTART;TZID=Europe/Dublin:20171125T110500
DTEND;TZID=Europe/Dublin:20171125T120000
DTSTAMP:20171107T154808
CREATED:20171024T111858Z
LAST-MODIFIED:20171024T111858Z
UID:7589-1511607900-1511611200@www.stpatrickscathedral.ie
SUMMARY:Eucharist
DESCRIPTION:Said in the Lady Chapel \n
URL:https://www.stpatrickscathedral.ie/event/eucharist-55/
CATEGORIES:Services
ATTACH;FMTTYPE=image/jpeg:https://www.stpatrickscathedral.ie/wp-content/uploads/2016/05/Untitled-design-40.jpg
END:VEVENT
END:VCALENDAR