BEGIN:VCALENDAR
VERSION:2.0
PRODID:-//St Patrick&#039;s Cathedral - ECPv4.5.12.3//NONSGML v1.0//EN
CALSCALE:GREGORIAN
METHOD:PUBLISH
X-WR-CALNAME:St Patrick&#039;s Cathedral
X-ORIGINAL-URL:https://www.stpatrickscathedral.ie
X-WR-CALDESC:Events for St Patrick&#039;s Cathedral
BEGIN:VEVENT
DTSTART;TZID=Europe/Dublin:20171130T090000
DTEND;TZID=Europe/Dublin:20171130T213000
DTSTAMP:20171107T154938
CREATED:20171107T102915Z
LAST-MODIFIED:20171107T102915Z
UID:7769-1512032400-1512077400@www.stpatrickscathedral.ie
SUMMARY:Sung Matins
DESCRIPTION:Join us for our morning sung service \n
URL:https://www.stpatrickscathedral.ie/event/sung-matins-24/2017-11-30/
CATEGORIES:Services
ATTACH;FMTTYPE=image/jpeg:https://www.stpatrickscathedral.ie/wp-content/uploads/2017/06/Rehearsals13.jpg
END:VEVENT
BEGIN:VEVENT
DTSTART;TZID=Europe/Dublin:20171130T110000
DTEND;TZID=Europe/Dublin:20171130T113000
DTSTAMP:20171107T154938
CREATED:20171024T094625Z
LAST-MODIFIED:20171024T094625Z
UID:7548-1512039600-1512041400@www.stpatrickscathedral.ie
SUMMARY:Eucharist
DESCRIPTION:Celebration of the Eucharist in the Lady Chapel \n
URL:https://www.stpatrickscathedral.ie/event/eucharist-51/2017-11-30/
CATEGORIES:Services
ATTACH;FMTTYPE=image/jpeg:https://www.stpatrickscathedral.ie/wp-content/uploads/2016/05/Untitled-design-40.jpg
END:VEVENT
BEGIN:VEVENT
DTSTART;TZID=Europe/Dublin:20171130T170000
DTEND;TZID=Europe/Dublin:20171130T173000
DTSTAMP:20171107T154938
CREATED:20171107T103152Z
LAST-MODIFIED:20171107T103152Z
UID:7775-1512061200-1512063000@www.stpatrickscathedral.ie
SUMMARY:Choral Evensong
DESCRIPTION:Join us for our daily sung service. \n
URL:https://www.stpatrickscathedral.ie/event/choral-evensong-52/2017-11-30/
CATEGORIES:Services
ATTACH;FMTTYPE=image/jpeg:https://www.stpatrickscathedral.ie/wp-content/uploads/2016/05/QUIRE.jpg
END:VEVENT
END:VCALENDAR